BEGIN:VCALENDAR
VERSION:2.0
PRODID:-//ddaysoftware.com//NONSGML DDay.iCal 1.0//EN
BEGIN:VTIMEZONE
TZID:W. Europe Standard Time
BEGIN:STANDARD
DTSTART:20251002T030000
RRULE:FREQ=YEARLY;BYDAY=-1SU;BYHOUR=3;BYMINUTE=0;BYMONTH=10
TZNAME:Mitteleuropäische Zeit
TZOFFSETFROM:+0200
TZOFFSETTO:+0100
END:STANDARD
BEGIN:DAYLIGHT
DTSTART:20250301T020000
RRULE:FREQ=YEARLY;BYDAY=-1SU;BYHOUR=2;BYMINUTE=0;BYMONTH=3
TZNAME:Mitteleuropäische Sommerzeit
TZOFFSETFROM:+0100
TZOFFSETTO:+0200
END:DAYLIGHT
END:VTIMEZONE
BEGIN:VEVENT
CATEGORIES:Fest\, Kulinarisches
CATEGORIES:Brauchtum\, Museum
CATEGORIES:Kirchliche Veranstaltung
CATEGORIES:Freizeit- und Kulturangebote
DESCRIPTION:\n\nVeranstalter: Pfarreiengemeinschaft\n\nhttps://www.buergsta
 dt.de/freizeit-tourismus/veranstaltungen/2026-11-13-martinszug-pfarrgemein
 derat/
DTEND:20261113T183000
DTSTAMP:20260422T055449Z
DTSTART:20261113T173000
LOCATION:Neue Kirche: Mühlweg 17\, 63927 Bürgstadt
SEQUENCE:0
SUMMARY:Martinszug
UID:196319
URL:https://www.buergstadt.de/freizeit-tourismus/veranstaltungen/2026-11-13
 -martinszug-pfarrgemeinderat/
END:VEVENT
END:VCALENDAR
