BEGIN:VCALENDAR
VERSION:2.0
PRODID:-//ddaysoftware.com//NONSGML DDay.iCal 1.0//EN
BEGIN:VTIMEZONE
TZID:W. Europe Standard Time
BEGIN:STANDARD
DTSTART:20251002T030000
RRULE:FREQ=YEARLY;BYDAY=-1SU;BYHOUR=3;BYMINUTE=0;BYMONTH=10
TZNAME:Mitteleuropäische Zeit
TZOFFSETFROM:+0200
TZOFFSETTO:+0100
END:STANDARD
BEGIN:DAYLIGHT
DTSTART:20250301T020000
RRULE:FREQ=YEARLY;BYDAY=-1SU;BYHOUR=2;BYMINUTE=0;BYMONTH=3
TZNAME:Mitteleuropäische Sommerzeit
TZOFFSETFROM:+0100
TZOFFSETTO:+0200
END:DAYLIGHT
END:VTIMEZONE
BEGIN:VEVENT
CATEGORIES:Fest\, Kulinarisches
CATEGORIES:Musik\, Gesang\, Konzert
CATEGORIES:Spiel\, Spaß
CATEGORIES:Freizeit- und Kulturangebote
DESCRIPTION:Bürgstadter Biergarten mit Mainufer Party\n\nVeranstalter: Vere
 insring Bürgstadt\n\nhttps://www.buergstadt.de/freizeit-tourismus/veransta
 ltungen/2026-08-1516-tag-der-vereine-vereinsring/
DTEND:20260816T190000
DTSTAMP:20260422T054533Z
DTSTART:20260815T140000
LOCATION:Bootsanlegestelle: Josef-Ullrich-Straße\, 63927 Bürgstadt
SEQUENCE:0
SUMMARY:Tag der Vereine - Vereinsring
UID:184633
URL:https://www.buergstadt.de/freizeit-tourismus/veranstaltungen/2026-08-15
 16-tag-der-vereine-vereinsring/
END:VEVENT
END:VCALENDAR
