BEGIN:VCALENDAR
VERSION:2.0
PRODID:-//ddaysoftware.com//NONSGML DDay.iCal 1.0//EN
BEGIN:VTIMEZONE
TZID:W. Europe Standard Time
BEGIN:STANDARD
DTSTART:20251002T030000
RRULE:FREQ=YEARLY;BYDAY=-1SU;BYHOUR=3;BYMINUTE=0;BYMONTH=10
TZNAME:Mitteleuropäische Zeit
TZOFFSETFROM:+0200
TZOFFSETTO:+0100
END:STANDARD
BEGIN:DAYLIGHT
DTSTART:20250301T020000
RRULE:FREQ=YEARLY;BYDAY=-1SU;BYHOUR=2;BYMINUTE=0;BYMONTH=3
TZNAME:Mitteleuropäische Sommerzeit
TZOFFSETFROM:+0100
TZOFFSETTO:+0200
END:DAYLIGHT
END:VTIMEZONE
BEGIN:VEVENT
CATEGORIES:Ferienspiele
CATEGORIES:Freizeit- und Kulturangebote
DESCRIPTION:\n\nVeranstalter: Kath. Frauenbund/Kunterbundt\n\nhttps://www.b
 uergstadt.de/freizeit-tourismus/veranstaltungen/2026-08-05-ferienspiele-ru
 nd-um-die-buecherei-frauenbund/
DTEND:20260805T160000
DTSTAMP:20260422T055233Z
DTSTART:20260805T150000
LOCATION:Bücherei: Freudenberger Straße 26\, 63927 Bürgstadt
SEQUENCE:0
SUMMARY:Ferienspiele rund um die Bücherei
UID:196384
URL:https://www.buergstadt.de/freizeit-tourismus/veranstaltungen/2026-08-05
 -ferienspiele-rund-um-die-buecherei-frauenbund/
END:VEVENT
END:VCALENDAR
