BEGIN:VCALENDAR
VERSION:2.0
PRODID:-//ddaysoftware.com//NONSGML DDay.iCal 1.0//EN
BEGIN:VTIMEZONE
TZID:W. Europe Standard Time
BEGIN:STANDARD
DTSTART:20251002T030000
RRULE:FREQ=YEARLY;BYDAY=-1SU;BYHOUR=3;BYMINUTE=0;BYMONTH=10
TZNAME:Mitteleuropäische Zeit
TZOFFSETFROM:+0200
TZOFFSETTO:+0100
END:STANDARD
BEGIN:DAYLIGHT
DTSTART:20250301T020000
RRULE:FREQ=YEARLY;BYDAY=-1SU;BYHOUR=2;BYMINUTE=0;BYMONTH=3
TZNAME:Mitteleuropäische Sommerzeit
TZOFFSETFROM:+0100
TZOFFSETTO:+0200
END:DAYLIGHT
END:VTIMEZONE
BEGIN:VEVENT
CATEGORIES:Freizeit- und Kulturangebote
CATEGORIES:Spiel\, Spaß
DESCRIPTION:\n\nVeranstalter: KJG Bürgstadt\n\nhttps://www.buergstadt.de/fr
 eizeit-tourismus/veranstaltungen/2026-07-31-08-09-kinder-und-jugendzeltlag
 er-der-kjg-buergstadt/
DTEND:20260809T000000
DTSTAMP:20260422T055233Z
DTSTART;VALUE=DATE:20260731
SEQUENCE:0
SUMMARY:Kinder- und Jugendzeltlager der KJG Bürgstadt
UID:184185
URL:https://www.buergstadt.de/freizeit-tourismus/veranstaltungen/2026-07-31
 -08-09-kinder-und-jugendzeltlager-der-kjg-buergstadt/
END:VEVENT
END:VCALENDAR
