BEGIN:VCALENDAR
VERSION:2.0
PRODID:-//ddaysoftware.com//NONSGML DDay.iCal 1.0//EN
BEGIN:VTIMEZONE
TZID:W. Europe Standard Time
BEGIN:STANDARD
DTSTART:20251002T030000
RRULE:FREQ=YEARLY;BYDAY=-1SU;BYHOUR=3;BYMINUTE=0;BYMONTH=10
TZNAME:Mitteleuropäische Zeit
TZOFFSETFROM:+0200
TZOFFSETTO:+0100
END:STANDARD
BEGIN:DAYLIGHT
DTSTART:20250301T020000
RRULE:FREQ=YEARLY;BYDAY=-1SU;BYHOUR=2;BYMINUTE=0;BYMONTH=3
TZNAME:Mitteleuropäische Sommerzeit
TZOFFSETFROM:+0100
TZOFFSETTO:+0200
END:DAYLIGHT
END:VTIMEZONE
BEGIN:VEVENT
CATEGORIES:Angebote für Senioren
DESCRIPTION:Thema: Handy\n\nVeranstalter: Quartiersmanagerin Jessica Breuni
 g\n\nhttps://www.buergstadt.de/freizeit-tourismus/veranstaltungen/2026-05-
 26-digitalcafe/
DTEND:20260526T163000
DTSTAMP:20260421T182329Z
DTSTART:20260526T153000
LOCATION:Bücherei: Freudenberger Straße 26\, 63927 Bürgstadt
SEQUENCE:0
SUMMARY:Digitalcafé mit den Digitallotsen der KAB 
UID:198736
URL:https://www.buergstadt.de/freizeit-tourismus/veranstaltungen/2026-05-26
 -digitalcafe/
END:VEVENT
END:VCALENDAR
