BEGIN:VCALENDAR
VERSION:2.0
PRODID:-//ddaysoftware.com//NONSGML DDay.iCal 1.0//EN
BEGIN:VTIMEZONE
TZID:W. Europe Standard Time
BEGIN:STANDARD
DTSTART:20251002T030000
RRULE:FREQ=YEARLY;BYDAY=-1SU;BYHOUR=3;BYMINUTE=0;BYMONTH=10
TZNAME:Mitteleuropäische Zeit
TZOFFSETFROM:+0200
TZOFFSETTO:+0100
END:STANDARD
BEGIN:DAYLIGHT
DTSTART:20250301T020000
RRULE:FREQ=YEARLY;BYDAY=-1SU;BYHOUR=2;BYMINUTE=0;BYMONTH=3
TZNAME:Mitteleuropäische Sommerzeit
TZOFFSETFROM:+0100
TZOFFSETTO:+0200
END:DAYLIGHT
END:VTIMEZONE
BEGIN:VEVENT
CATEGORIES:Angebote für Senioren
CATEGORIES:Versammlung\, Vortrag
DESCRIPTION:Referentin V. Bachmann vom Amt für Ernährung\, Landwirtschaft u
 nd Forsten\n\nVeranstalter: Quartiersmanagerin Jessica Breunig\n\nhttps://
 www.buergstadt.de/freizeit-tourismus/veranstaltungen/2026-05-07-vortrag-er
 naehrung-ab-der-lebensmitte/
DTEND:20260507T200000
DTSTAMP:20260421T182718Z
DTSTART:20260507T190000
LOCATION:Vereinsheim Turnverein: Jahnstraße 1\, 63927 Bürgstadt
SEQUENCE:0
SUMMARY:Vortrag „Ernährung ab der Lebensmitte“
UID:198732
URL:https://www.buergstadt.de/freizeit-tourismus/veranstaltungen/2026-05-07
 -vortrag-ernaehrung-ab-der-lebensmitte/
END:VEVENT
END:VCALENDAR
